BEGIN:VCALENDAR
VERSION:2.0
PRODID:-//Knights of Columbus Council #8844 - ECPv6.15.13//NONSGML v1.0//EN
CALSCALE:GREGORIAN
METHOD:PUBLISH
X-ORIGINAL-URL:https://www.kofc8844.org
X-WR-CALDESC:Events for Knights of Columbus Council #8844
REFRESH-INTERVAL;VALUE=DURATION:PT1H
X-Robots-Tag:noindex
X-PUBLISHED-TTL:PT1H
BEGIN:VTIMEZONE
TZID:America/Denver
BEGIN:DAYLIGHT
TZOFFSETFROM:-0700
TZOFFSETTO:-0600
TZNAME:MDT
DTSTART:20210314T090000
END:DAYLIGHT
BEGIN:STANDARD
TZOFFSETFROM:-0600
TZOFFSETTO:-0700
TZNAME:MST
DTSTART:20211107T080000
END:STANDARD
BEGIN:DAYLIGHT
TZOFFSETFROM:-0700
TZOFFSETTO:-0600
TZNAME:MDT
DTSTART:20220313T090000
END:DAYLIGHT
BEGIN:STANDARD
TZOFFSETFROM:-0600
TZOFFSETTO:-0700
TZNAME:MST
DTSTART:20221106T080000
END:STANDARD
BEGIN:DAYLIGHT
TZOFFSETFROM:-0700
TZOFFSETTO:-0600
TZNAME:MDT
DTSTART:20230312T090000
END:DAYLIGHT
BEGIN:STANDARD
TZOFFSETFROM:-0600
TZOFFSETTO:-0700
TZNAME:MST
DTSTART:20231105T080000
END:STANDARD
END:VTIMEZONE
BEGIN:VEVENT
DTSTART;TZID=America/Denver:20220717T073000
DTEND;TZID=America/Denver:20220717T123000
DTSTAMP:20260423T131946
CREATED:20220629T210519Z
LAST-MODIFIED:20220629T210519Z
UID:1975-1658043000-1658061000@www.kofc8844.org
SUMMARY:Donut Day
DESCRIPTION:
URL:https://www.kofc8844.org/event/donut-day/
LOCATION:Blessed Sacrament Church\, 4500 Jackson Blvd\, Rapid City\, SD\, 57702\, United States
ATTACH;FMTTYPE=image/jpeg:https://www.kofc8844.org/wp-content/uploads/2022/06/donuts.jpg
END:VEVENT
BEGIN:VEVENT
DTSTART;TZID=America/Denver:20220705T183000
DTEND;TZID=America/Denver:20220705T203000
DTSTAMP:20260423T131946
CREATED:20220629T210316Z
LAST-MODIFIED:20220629T210316Z
UID:1972-1657045800-1657053000@www.kofc8844.org
SUMMARY:Council 8844 Meeting
DESCRIPTION:
URL:https://www.kofc8844.org/event/council-8844-meeting/
LOCATION:Knights Room\, 4500 Jackson Blvd\, Rapid City\, SD\, 57702\, United States
END:VEVENT
BEGIN:VEVENT
DTSTART;TZID=America/Denver:20220625T173000
DTEND;TZID=America/Denver:20220625T193000
DTSTAMP:20260423T131946
CREATED:20220624T022352Z
LAST-MODIFIED:20220624T022352Z
UID:1844-1656178200-1656185400@www.kofc8844.org
SUMMARY:Patriotic 4th Degree Exemplification
DESCRIPTION:
URL:https://www.kofc8844.org/event/patriotic-4th-degree-exemplification/
LOCATION:St. Therese Church
END:VEVENT
END:VCALENDAR