BEGIN:VCALENDAR
VERSION:2.0
PRODID:-//Knights of Columbus Council #8844 - ECPv6.15.13//NONSGML v1.0//EN
CALSCALE:GREGORIAN
METHOD:PUBLISH
X-WR-CALNAME:Knights of Columbus Council #8844
X-ORIGINAL-URL:https://www.kofc8844.org
X-WR-CALDESC:Events for Knights of Columbus Council #8844
REFRESH-INTERVAL;VALUE=DURATION:PT1H
X-Robots-Tag:noindex
X-PUBLISHED-TTL:PT1H
BEGIN:VTIMEZONE
TZID:America/Denver
BEGIN:DAYLIGHT
TZOFFSETFROM:-0700
TZOFFSETTO:-0600
TZNAME:MDT
DTSTART:20210314T090000
END:DAYLIGHT
BEGIN:STANDARD
TZOFFSETFROM:-0600
TZOFFSETTO:-0700
TZNAME:MST
DTSTART:20211107T080000
END:STANDARD
BEGIN:DAYLIGHT
TZOFFSETFROM:-0700
TZOFFSETTO:-0600
TZNAME:MDT
DTSTART:20220313T090000
END:DAYLIGHT
BEGIN:STANDARD
TZOFFSETFROM:-0600
TZOFFSETTO:-0700
TZNAME:MST
DTSTART:20221106T080000
END:STANDARD
BEGIN:DAYLIGHT
TZOFFSETFROM:-0700
TZOFFSETTO:-0600
TZNAME:MDT
DTSTART:20230312T090000
END:DAYLIGHT
BEGIN:STANDARD
TZOFFSETFROM:-0600
TZOFFSETTO:-0700
TZNAME:MST
DTSTART:20231105T080000
END:STANDARD
BEGIN:DAYLIGHT
TZOFFSETFROM:-0700
TZOFFSETTO:-0600
TZNAME:MDT
DTSTART:20240310T090000
END:DAYLIGHT
BEGIN:STANDARD
TZOFFSETFROM:-0600
TZOFFSETTO:-0700
TZNAME:MST
DTSTART:20241103T080000
END:STANDARD
BEGIN:DAYLIGHT
TZOFFSETFROM:-0700
TZOFFSETTO:-0600
TZNAME:MDT
DTSTART:20250309T090000
END:DAYLIGHT
BEGIN:STANDARD
TZOFFSETFROM:-0600
TZOFFSETTO:-0700
TZNAME:MST
DTSTART:20251102T080000
END:STANDARD
BEGIN:DAYLIGHT
TZOFFSETFROM:-0700
TZOFFSETTO:-0600
TZNAME:MDT
DTSTART:20260308T090000
END:DAYLIGHT
BEGIN:STANDARD
TZOFFSETFROM:-0600
TZOFFSETTO:-0700
TZNAME:MST
DTSTART:20261101T080000
END:STANDARD
END:VTIMEZONE
BEGIN:VEVENT
DTSTART;TZID=America/Denver:20250914T070000
DTEND;TZID=America/Denver:20250914T130000
DTSTAMP:20260423T101457
CREATED:20250827T225355Z
LAST-MODIFIED:20250827T225355Z
UID:2075-1757833200-1757854800@www.kofc8844.org
SUMMARY:Pancake Breakfast
DESCRIPTION:Benefiting Parish Ministries
URL:https://www.kofc8844.org/event/pancake-breakfast-4/
LOCATION:Blessed Sacrament Church\, 4500 Jackson Blvd\, Rapid City\, SD\, 57702\, United States
END:VEVENT
BEGIN:VEVENT
DTSTART;TZID=America/Denver:20250902T183000
DTEND;TZID=America/Denver:20250902T200000
DTSTAMP:20260423T101457
CREATED:20250827T225146Z
LAST-MODIFIED:20250827T225146Z
UID:2073-1756837800-1756843200@www.kofc8844.org
SUMMARY:Council Meeting
DESCRIPTION:
URL:https://www.kofc8844.org/event/council-meeting/
LOCATION:Knights Room\, 4500 Jackson Blvd\, Rapid City\, SD\, 57702\, United States
END:VEVENT
BEGIN:VEVENT
DTSTART;TZID=America/Denver:20241215T080000
DTEND;TZID=America/Denver:20241215T123000
DTSTAMP:20260423T101457
CREATED:20241026T200258Z
LAST-MODIFIED:20241026T200258Z
UID:2065-1734249600-1734265800@www.kofc8844.org
SUMMARY:Donut Day
DESCRIPTION:
URL:https://www.kofc8844.org/event/donut-day-5/
LOCATION:SD
END:VEVENT
BEGIN:VEVENT
DTSTART;TZID=America/Denver:20241208T080000
DTEND;TZID=America/Denver:20241208T130000
DTSTAMP:20260423T101457
CREATED:20241026T200226Z
LAST-MODIFIED:20241026T200226Z
UID:2063-1733644800-1733662800@www.kofc8844.org
SUMMARY:Pancake Breakfast
DESCRIPTION:
URL:https://www.kofc8844.org/event/pancake-breakfast-3/
LOCATION:Blessed Sacrament Church\, 4500 Jackson Blvd\, Rapid City\, SD\, 57702\, United States
END:VEVENT
BEGIN:VEVENT
DTSTART;TZID=America/Denver:20241203T183000
DTEND;TZID=America/Denver:20241203T203000
DTSTAMP:20260423T101457
CREATED:20241026T200154Z
LAST-MODIFIED:20241026T200154Z
UID:2061-1733250600-1733257800@www.kofc8844.org
SUMMARY:KC Council 8844 Meeting
DESCRIPTION:
URL:https://www.kofc8844.org/event/kc-council-8844-meeting-2/
LOCATION:Knights Room\, 4500 Jackson Blvd\, Rapid City\, SD\, 57702\, United States
END:VEVENT
BEGIN:VEVENT
DTSTART;TZID=America/Denver:20241127T180000
DTEND;TZID=America/Denver:20241127T193000
DTSTAMP:20260423T101457
CREATED:20241026T200107Z
LAST-MODIFIED:20241026T200107Z
UID:2059-1732730400-1732735800@www.kofc8844.org
SUMMARY:Executive Council Meeting
DESCRIPTION:
URL:https://www.kofc8844.org/event/executive-council-meeting/
LOCATION:Knights Room\, 4500 Jackson Blvd\, Rapid City\, SD\, 57702\, United States
END:VEVENT
BEGIN:VEVENT
DTSTART;TZID=America/Denver:20241117T080000
DTEND;TZID=America/Denver:20241117T130000
DTSTAMP:20260423T101457
CREATED:20241026T200012Z
LAST-MODIFIED:20241026T200012Z
UID:2057-1731830400-1731848400@www.kofc8844.org
SUMMARY:Pancake Breakfast (note date change)
DESCRIPTION:
URL:https://www.kofc8844.org/event/pancake-breakfast-note-date-change/
LOCATION:Blessed Sacrament Church\, 4500 Jackson Blvd\, Rapid City\, SD\, 57702\, United States
END:VEVENT
BEGIN:VEVENT
DTSTART;TZID=America/Denver:20241105T183000
DTEND;TZID=America/Denver:20241105T203000
DTSTAMP:20260423T101457
CREATED:20241026T195909Z
LAST-MODIFIED:20241026T195909Z
UID:2055-1730831400-1730838600@www.kofc8844.org
SUMMARY:KC Council 8844 Meeting
DESCRIPTION:
URL:https://www.kofc8844.org/event/kc-council-8844-meeting/
LOCATION:Knights Room\, 4500 Jackson Blvd\, Rapid City\, SD\, 57702\, United States
END:VEVENT
BEGIN:VEVENT
DTSTART;TZID=America/Denver:20241030T180000
DTEND;TZID=America/Denver:20241030T193000
DTSTAMP:20260423T101457
CREATED:20241026T195810Z
LAST-MODIFIED:20241026T195810Z
UID:2053-1730311200-1730316600@www.kofc8844.org
SUMMARY:Council Executive Meeting
DESCRIPTION:
URL:https://www.kofc8844.org/event/council-executive-meeting/
LOCATION:Knights Room\, 4500 Jackson Blvd\, Rapid City\, SD\, 57702\, United States
END:VEVENT
BEGIN:VEVENT
DTSTART;TZID=America/Denver:20240403T160000
DTEND;TZID=America/Denver:20240403T190000
DTSTAMP:20260423T101457
CREATED:20231114T024014Z
LAST-MODIFIED:20231114T024112Z
UID:2046-1712160000-1712170800@www.kofc8844.org
SUMMARY:KC Wednesday Dinner
DESCRIPTION:
URL:https://www.kofc8844.org/event/kc-wednesday-dinner/
LOCATION:Blessed Sacrament Church\, 4500 Jackson Blvd\, Rapid City\, SD\, 57702\, United States
END:VEVENT
BEGIN:VEVENT
DTSTART;TZID=America/Denver:20230426T140000
DTEND;TZID=America/Denver:20230426T190000
DTSTAMP:20260423T101457
CREATED:20220629T142408Z
LAST-MODIFIED:20220629T142408Z
UID:1965-1682517600-1682535600@www.kofc8844.org
SUMMARY:Religious Education Year End BBQ Celebration
DESCRIPTION:Our council will be cooking\, serving\, and cleaning up for the end of year celebration for RE
URL:https://www.kofc8844.org/event/religious-education-year-end-bbq-celebration/
LOCATION:Blessed Sacrament Church\, 4500 Jackson Blvd\, Rapid City\, SD\, 57702\, United States
ATTACH;FMTTYPE=image/jpeg:https://www.kofc8844.org/wp-content/uploads/2022/06/burger-burn.jpg
END:VEVENT
BEGIN:VEVENT
DTSTART;TZID=America/Denver:20230331T180000
DTEND;TZID=America/Denver:20230331T193000
DTSTAMP:20260423T101457
CREATED:20230311T144106Z
LAST-MODIFIED:20230311T144106Z
UID:2040-1680285600-1680291000@www.kofc8844.org
SUMMARY:Lenten Fish Fry
DESCRIPTION:
URL:https://www.kofc8844.org/event/lenten-fish-fry/
LOCATION:Blessed Sacrament Church\, 4500 Jackson Blvd\, Rapid City\, SD\, 57702\, United States
END:VEVENT
BEGIN:VEVENT
DTSTART;TZID=America/Denver:20230321T143000
DTEND;TZID=America/Denver:20230321T170000
DTSTAMP:20260423T101457
CREATED:20230311T144027Z
LAST-MODIFIED:20230311T144027Z
UID:2038-1679409000-1679418000@www.kofc8844.org
SUMMARY:Blood Drive
DESCRIPTION:
URL:https://www.kofc8844.org/event/blood-drive/
LOCATION:Blessed Sacrament Church\, 4500 Jackson Blvd\, Rapid City\, SD\, 57702\, United States
END:VEVENT
BEGIN:VEVENT
DTSTART;TZID=America/Denver:20230319T080000
DTEND;TZID=America/Denver:20230319T123000
DTSTAMP:20260423T101457
CREATED:20230311T143910Z
LAST-MODIFIED:20230311T143910Z
UID:2036-1679212800-1679229000@www.kofc8844.org
SUMMARY:Donut Day
DESCRIPTION:
URL:https://www.kofc8844.org/event/donut-day-4/
LOCATION:Blessed Sacrament Church\, 4500 Jackson Blvd\, Rapid City\, SD\, 57702\, United States
END:VEVENT
BEGIN:VEVENT
DTSTART;TZID=America/Denver:20230312T070000
DTEND;TZID=America/Denver:20230312T130000
DTSTAMP:20260423T101457
CREATED:20230311T143759Z
LAST-MODIFIED:20230311T143759Z
UID:2034-1678604400-1678626000@www.kofc8844.org
SUMMARY:Pancake Breakfast
DESCRIPTION:
URL:https://www.kofc8844.org/event/pancake-breakfast-2/
LOCATION:Blessed Sacrament Church\, 4500 Jackson Blvd\, Rapid City\, SD\, 57702\, United States
END:VEVENT
BEGIN:VEVENT
DTSTART;TZID=America/Denver:20230312T070000
DTEND;TZID=America/Denver:20230312T123000
DTSTAMP:20260423T101457
CREATED:20230312T130010Z
LAST-MODIFIED:20230311T143532Z
UID:1985-1678604400-1678624200@www.kofc8844.org
SUMMARY:Pancake Breakfast Benefitting Saint Vincent DePaul
DESCRIPTION:
URL:https://www.kofc8844.org/event/pancake-breakfast-benefitting-saint-vincent-depaul/
LOCATION:Blessed Sacrament Church\, 4500 Jackson Blvd\, Rapid City\, SD\, 57702\, United States
END:VEVENT
BEGIN:VEVENT
DTSTART;TZID=America/Denver:20230303T140000
DTEND;TZID=America/Denver:20230303T193000
DTSTAMP:20260423T101457
CREATED:20220629T205531Z
LAST-MODIFIED:20220629T205531Z
UID:1968-1677852000-1677871800@www.kofc8844.org
SUMMARY:Lenten Fish Dinner
DESCRIPTION:
URL:https://www.kofc8844.org/event/lenten-fish-dinner/
LOCATION:Blessed Sacrament Church\, 4500 Jackson Blvd\, Rapid City\, SD\, 57702\, United States
ATTACH;FMTTYPE=image/png:https://www.kofc8844.org/wp-content/uploads/2022/06/fishdinner.png
END:VEVENT
BEGIN:VEVENT
DTSTART;TZID=America/Denver:20221218T080000
DTEND;TZID=America/Denver:20221218T123000
DTSTAMP:20260423T101457
CREATED:20221029T201233Z
LAST-MODIFIED:20221029T201233Z
UID:1989-1671350400-1671366600@www.kofc8844.org
SUMMARY:Donut Day
DESCRIPTION:
URL:https://www.kofc8844.org/event/donut-day-3/
LOCATION:Blessed Sacrament Church\, 4500 Jackson Blvd\, Rapid City\, SD\, 57702\, United States
END:VEVENT
BEGIN:VEVENT
DTSTART;TZID=America/Denver:20221206T183000
DTEND;TZID=America/Denver:20221206T200000
DTSTAMP:20260423T101457
CREATED:20221029T201447Z
LAST-MODIFIED:20221029T201447Z
UID:1993-1670351400-1670356800@www.kofc8844.org
SUMMARY:Council 8844 Meeting
DESCRIPTION:
URL:https://www.kofc8844.org/event/council-8844-meeting-3/
LOCATION:Knights Room\, 4500 Jackson Blvd\, Rapid City\, SD\, 57702\, United States
END:VEVENT
BEGIN:VEVENT
DTSTART;TZID=America/Denver:20221120T080000
DTEND;TZID=America/Denver:20221120T120000
DTSTAMP:20260423T101457
CREATED:20221029T201155Z
LAST-MODIFIED:20221029T201155Z
UID:1987-1668931200-1668945600@www.kofc8844.org
SUMMARY:Donut Day
DESCRIPTION:
URL:https://www.kofc8844.org/event/donut-day-2/
LOCATION:Blessed Sacrament Church\, 4500 Jackson Blvd\, Rapid City\, SD\, 57702\, United States
END:VEVENT
BEGIN:VEVENT
DTSTART;TZID=America/Denver:20221113T070000
DTEND;TZID=America/Denver:20221113T123000
DTSTAMP:20260423T101457
CREATED:20221029T200959Z
LAST-MODIFIED:20221029T200959Z
UID:1982-1668322800-1668342600@www.kofc8844.org
SUMMARY:Pancake Breakfast Benefitting Seminarians
DESCRIPTION:
URL:https://www.kofc8844.org/event/pancake-breakfast-benefitting-seminarians/
LOCATION:Blessed Sacrament Church\, 4500 Jackson Blvd\, Rapid City\, SD\, 57702\, United States
END:VEVENT
BEGIN:VEVENT
DTSTART;TZID=America/Denver:20221101T183000
DTEND;TZID=America/Denver:20221101T200000
DTSTAMP:20260423T101457
CREATED:20221029T201353Z
LAST-MODIFIED:20221029T201353Z
UID:1991-1667327400-1667332800@www.kofc8844.org
SUMMARY:Council 8844 Meeting
DESCRIPTION:
URL:https://www.kofc8844.org/event/council-8844-meeting-2/
LOCATION:Knights Room\, 4500 Jackson Blvd\, Rapid City\, SD\, 57702\, United States
END:VEVENT
BEGIN:VEVENT
DTSTART;TZID=America/Denver:20220914T140000
DTEND;TZID=America/Denver:20220914T190000
DTSTAMP:20260423T101457
CREATED:20220629T141904Z
LAST-MODIFIED:20220629T142529Z
UID:1963-1663164000-1663182000@www.kofc8844.org
SUMMARY:Religious Education BBQ Kick-Off
DESCRIPTION:Our Council will be cooking\, serving\, and cleaning up for the RE Kick-Off BBQ
URL:https://www.kofc8844.org/event/religious-education-bbq-kick-off/
LOCATION:Blessed Sacrament Church\, 4500 Jackson Blvd\, Rapid City\, SD\, 57702\, United States
ATTACH;FMTTYPE=image/jpeg:https://www.kofc8844.org/wp-content/uploads/2022/06/burger-burn.jpg
END:VEVENT
BEGIN:VEVENT
DTSTART;TZID=America/Denver:20220911T070000
DTEND;TZID=America/Denver:20220911T120000
DTSTAMP:20260423T101457
CREATED:20220625T184200Z
LAST-MODIFIED:20220625T184200Z
UID:1938-1662879600-1662897600@www.kofc8844.org
SUMMARY:Pancake Breakfast
DESCRIPTION:
URL:https://www.kofc8844.org/event/pancake-breakfast/
LOCATION:Blessed Sacrament Church\, 4500 Jackson Blvd\, Rapid City\, SD\, 57702\, United States
END:VEVENT
BEGIN:VEVENT
DTSTART;TZID=America/Denver:20220717T073000
DTEND;TZID=America/Denver:20220717T123000
DTSTAMP:20260423T101457
CREATED:20220629T210519Z
LAST-MODIFIED:20220629T210519Z
UID:1975-1658043000-1658061000@www.kofc8844.org
SUMMARY:Donut Day
DESCRIPTION:
URL:https://www.kofc8844.org/event/donut-day/
LOCATION:Blessed Sacrament Church\, 4500 Jackson Blvd\, Rapid City\, SD\, 57702\, United States
ATTACH;FMTTYPE=image/jpeg:https://www.kofc8844.org/wp-content/uploads/2022/06/donuts.jpg
END:VEVENT
BEGIN:VEVENT
DTSTART;TZID=America/Denver:20220705T183000
DTEND;TZID=America/Denver:20220705T203000
DTSTAMP:20260423T101457
CREATED:20220629T210316Z
LAST-MODIFIED:20220629T210316Z
UID:1972-1657045800-1657053000@www.kofc8844.org
SUMMARY:Council 8844 Meeting
DESCRIPTION:
URL:https://www.kofc8844.org/event/council-8844-meeting/
LOCATION:Knights Room\, 4500 Jackson Blvd\, Rapid City\, SD\, 57702\, United States
END:VEVENT
BEGIN:VEVENT
DTSTART;TZID=America/Denver:20220625T173000
DTEND;TZID=America/Denver:20220625T193000
DTSTAMP:20260423T101457
CREATED:20220624T022352Z
LAST-MODIFIED:20220624T022352Z
UID:1844-1656178200-1656185400@www.kofc8844.org
SUMMARY:Patriotic 4th Degree Exemplification
DESCRIPTION:
URL:https://www.kofc8844.org/event/patriotic-4th-degree-exemplification/
LOCATION:St. Therese Church
END:VEVENT
END:VCALENDAR